BEGIN:VCALENDAR
PRODID:-//eluceo/ical//2.0/EN
VERSION:2.0
CALSCALE:GREGORIAN
BEGIN:VEVENT
UID:1b5360fc4517d5387d2182e563175890
DTSTAMP:20260420T085615Z
SUMMARY:Distriktskonferenz - Distrik 2000
DESCRIPTION:Begrüssung im Stadthaus durch Stadtpräsident Michael Künzle\
 n\n• Fiesta Latina - Ecuadorianische Musik aus zwei Jahrhunderten gespie
 lt durch das Musikkollegium Winterthur unter der Leitung von Emmanuel Siff
 ert\n\nTransfer zum Kongresshaus Liebestrasse oder zum Rahmenprogramm*\n\n
 • Distriktskonferenz Begrüssung durch DG Paul Moeller\n\n• Gastrefera
 t «Die arabische Revolution und der Westen» Erich Gysling\n\n• Bankett
  und Ehrungen mit musikalischer Umrahmung durch die Zivilschutz-Big-Band W
 interthur unter der Leitung von Reto Parolari\nSprekers: Anmeldung direkt 
 auf der Internetseite www.distrikt2000.ch
URL:https://rotary-frauenfeld.ch/nl/agenda/show/30866
DTSTART;TZID=Europe/Zurich:20130608T150000
DTEND;TZID=Europe/Zurich:20130608T230000
LOCATION:Stadthaus Winterthur
CATEGORIES:Rotary
END:VEVENT
BEGIN:VTIMEZONE
TZID:Europe/Zurich
BEGIN:DAYLIGHT
DTSTART:20130608T150000
TZNAME:CEST
TZOFFSETTO:+0200
TZOFFSETFROM:+0200
END:DAYLIGHT
END:VTIMEZONE
END:VCALENDAR
