BEGIN:VCALENDAR
PRODID:-//eluceo/ical//2.0/EN
VERSION:2.0
CALSCALE:GREGORIAN
BEGIN:VEVENT
UID:5eb967f1d08bf8d66338558bba14f601
DTSTAMP:20260422T130220Z
SUMMARY:Kampf um Talente – ein Praxisbeispiel
DESCRIPTION:Sprekers: Patrik Forster\n
URL:https://rotary-frauenfeld.ch/nl/agenda/show/30408
DTSTART;TZID=Europe/Zurich:20130422T121500
DTEND;TZID=Europe/Zurich:20130422T140000
LOCATION:Landgasthof „Wartegg“ (Müllheim-Wigoltingen)
CATEGORIES:Rotary
END:VEVENT
BEGIN:VTIMEZONE
TZID:Europe/Zurich
BEGIN:DAYLIGHT
DTSTART:20130422T121500
TZNAME:CEST
TZOFFSETTO:+0200
TZOFFSETFROM:+0200
END:DAYLIGHT
END:VTIMEZONE
END:VCALENDAR
