BEGIN:VCALENDAR
PRODID:-//eluceo/ical//2.0/EN
VERSION:2.0
CALSCALE:GREGORIAN
BEGIN:VEVENT
UID:21e6344968247b804c79572710c9f568
DTSTAMP:20260422T094922Z
SUMMARY:Präsenzapéro
DESCRIPTION:
URL:https://rotary-frauenfeld.ch/nl/agenda/show/27835
DTSTART;TZID=Europe/Zurich:20130116T180000
DTEND;TZID=Europe/Zurich:20130116T180000
LOCATION:Restaurant Bürgerstube\, Frauenfeld
CATEGORIES:Rotary
END:VEVENT
BEGIN:VTIMEZONE
TZID:Europe/Zurich
BEGIN:STANDARD
DTSTART:20130116T180000
TZNAME:CET
TZOFFSETTO:+0100
TZOFFSETFROM:+0100
END:STANDARD
END:VTIMEZONE
END:VCALENDAR
