BEGIN:VCALENDAR
PRODID:-//eluceo/ical//2.0/EN
VERSION:2.0
CALSCALE:GREGORIAN
BEGIN:VEVENT
UID:3ce0545721eff150163bacac3eb119e0
DTSTAMP:20260420T085230Z
SUMMARY:Dreikönigstreffen der Serviceclubs Frauenfeld
DESCRIPTION:Anlässlich des Dreikönigtreffens 2013 wird die schwierige Sit
 uation für einmal von einer unkonventionellen Seite her beleuchtet. Der S
 ystemforscher Andreas Popp arbeitet mit seiner Wissensmanufaktur seit viel
 en Jahren mit hoher Leidenschaft für Universalwissenschaft an einer „ga
 nzheitlichen\, sozialökonomischen Ordnung“\, die letztlich die bestehen
 den Paradigmen aufweicht. Er wird uns seine Überlegungen und seine Ansät
 ze für einen möglichen Weg aus der Krise näherbringen. Lasst Euch die G
 elegenheit\, den charismatischen Redner Andreas Popp live zu erleben\, nic
 ht entgehen und meldet Euch für das Dreikönigstreffen 2013 an.  18.00 Uh
 r Eintreffen und Apéro 19.00 Uhr Begrüssung Präsident der Jungen Wirtsc
 haftskammer Frauenfeld\, Christian Dietl 19.10 Uhr Referat Andreas Popp: (
 Thema: Plan B zur Lösung der Systemkrise) 20.30 Uhr Nachtessen 23.00 Uhr 
 Ausklang und Ende der Veranstaltung\nSprekers: Andreas Popp
URL:https://rotary-frauenfeld.ch/nl/agenda/show/27832
DTSTART;TZID=Europe/Zurich:20130109T180000
DTEND;TZID=Europe/Zurich:20130109T180000
LOCATION:Casino Frauenfeld
CATEGORIES:Rotary
END:VEVENT
BEGIN:VTIMEZONE
TZID:Europe/Zurich
BEGIN:STANDARD
DTSTART:20130109T180000
TZNAME:CET
TZOFFSETTO:+0100
TZOFFSETFROM:+0100
END:STANDARD
END:VTIMEZONE
END:VCALENDAR
