BEGIN:VCALENDAR
PRODID:-//eluceo/ical//2.0/EN
VERSION:2.0
CALSCALE:GREGORIAN
BEGIN:VEVENT
UID:570b95dae829b5436928a4621fa286ec
DTSTAMP:20260420T085432Z
SUMMARY:Satellitennavigation in der Aviatik
DESCRIPTION:Sprekers: Christian Freiesleben BAZL
URL:https://rotary-frauenfeld.ch/nl/agenda/show/27288
DTSTART;TZID=Europe/Zurich:20121105T121500
DTEND;TZID=Europe/Zurich:20121105T141500
LOCATION:Landgasthof Wartegg (Müllheim-Wigoltingen)
CATEGORIES:Rotary
END:VEVENT
BEGIN:VTIMEZONE
TZID:Europe/Zurich
BEGIN:STANDARD
DTSTART:20121105T121500
TZNAME:CET
TZOFFSETTO:+0100
TZOFFSETFROM:+0100
END:STANDARD
END:VTIMEZONE
END:VCALENDAR
