BEGIN:VCALENDAR
PRODID:-//eluceo/ical//2.0/EN
VERSION:2.0
CALSCALE:GREGORIAN
BEGIN:VEVENT
UID:1551e3fec7fe7eeaf9a5b3c6c7962519
DTSTAMP:20260420T141816Z
SUMMARY:Rotary Oktoberfest bei Getränke Hahn AG
DESCRIPTION:Liebe rotarische Freunde\, sehr geehrte Damen\nAuch in diesem J
 ahr werden wieder die Lederhosen und Dirndls angezogen. Die Getränke Hahn
  AG lädt zum traditionellen Rotary Oktoberfest ein und freut sich auf zah
 lreiche Teilnehmer. Es gibt genügend Weissbier (mit und ohne Alkohol) sow
 ie Wein für die weiblichen Gäste. Um den Hunger zu stillen\, werden Weis
 swürste und Bretzel aufgetischt. Das Oktoberfest findet draussen unter ei
 nem Vordach oder in der Lagerhalle statt. Parkplätze sind ebenso hinter d
 er Lagerhalle oder ab 19.00 Uhr vor dem Shop verfügbar. Der Erlös des Ab
 ends geht zu 100% an die Rotary-Stiftung.\nWebsite: https://www.getraenkeh
 ahn.ch/
URL:https://rotary-frauenfeld.ch/nl/agenda/show/100912
DTSTART;TZID=Europe/Zurich:20190913T183000
DTEND;TZID=Europe/Zurich:20190913T230000
LOCATION:Langfeldstrasse 58\, Frauenfeld
CATEGORIES:Rotary
END:VEVENT
BEGIN:VTIMEZONE
TZID:Europe/Zurich
BEGIN:DAYLIGHT
DTSTART:20190913T183000
TZNAME:CEST
TZOFFSETTO:+0200
TZOFFSETFROM:+0200
END:DAYLIGHT
END:VTIMEZONE
END:VCALENDAR
