BEGIN:VCALENDAR
PRODID:-//eluceo/ical//2.0/EN
VERSION:2.0
CALSCALE:GREGORIAN
BEGIN:VEVENT
UID:c622a50671ff379cff20a0e36f17342b
DTSTAMP:20260421T100545Z
SUMMARY:Klassifikationsvortrag Rot.Urs Schlatter
DESCRIPTION:
URL:https://rotary-frauenfeld.ch/it/agenda/show/45244
DTSTART;TZID=Europe/Zurich:20141027T121500
DTEND;TZID=Europe/Zurich:20141027T140000
LOCATION:Lunch: Landgasthof Wartegg
CATEGORIES:Rotary
END:VEVENT
BEGIN:VTIMEZONE
TZID:Europe/Zurich
BEGIN:STANDARD
DTSTART:20141027T121500
TZNAME:CET
TZOFFSETTO:+0100
TZOFFSETFROM:+0100
END:STANDARD
END:VTIMEZONE
END:VCALENDAR
