BEGIN:VCALENDAR
PRODID:-//eluceo/ical//2.0/EN
VERSION:2.0
CALSCALE:GREGORIAN
BEGIN:VEVENT
UID:eb0763c798464c4bebfa42f903c1b9b9
DTSTAMP:20260419T135653Z
SUMMARY:Schweizer Jazzgeschichte (Bechtelistag)
DESCRIPTION:Anmeldungen bitte direkt im Goldenen Kreuz\, Frauenfeld  Telefo
 n: 052/7250110\nRelatore/i: Fernand Schlumpf
URL:https://rotary-frauenfeld.ch/it/agenda/show/27837
DTSTART;TZID=Europe/Zurich:20130121T121500
DTEND;TZID=Europe/Zurich:20130121T121500
LOCATION:Goldenes Kreuz\, Frauenfeld
CATEGORIES:Rotary
END:VEVENT
BEGIN:VTIMEZONE
TZID:Europe/Zurich
BEGIN:STANDARD
DTSTART:20130121T121500
TZNAME:CET
TZOFFSETTO:+0100
TZOFFSETFROM:+0100
END:STANDARD
END:VTIMEZONE
END:VCALENDAR
